Workbook

Sheet Evaluación Residencia
A1: EVALUACIÓN DE RESIDENCIA FISCAL (Art. 10 E.T. - Parágrafo 1)
A2: Instrucciones: 1. Ingresa las fechas de tus viajes en la hoja 'Registro de Viajes'. 2. Según el Parágrafo 1 del Art. 10 ET, la regla aplica si pasas >183 días en cualquier periodo de 365 días. Si el periodo abarca 2 años, serás residente fiscal en el segundo año.
B4: Año | C4: Días Totales en Año Calendario | D4: Días Máximos en Periodo de 365 días continuos | E4: ¿Supera 183 Días? | F4: ESTADO DE RESIDENCIA FISCAL
B5: 2022 | C5: =SUM('Registro de Viajes'!E5:E34) -> 0 | D5: {=MAX(INDEX((Motor_Calculo!$D$2:$D$1827=2022)*(Motor_Calculo!$C$2:$C$1827), 0))} -> 0 | E5: =IF(D5>=183, "SÍ", "NO") -> NO | F5: =IF(D5>=183, "RESIDENTE FISCAL", "NO RESIDENTE") -> NO RESIDENTE
B6: 2023 | C6: =SUM('Registro de Viajes'!F5:F34) -> 0 | D6: =MAX(INDEX((Motor_Calculo!$D$2:$D$1827=2023)*(Motor_Calculo!$C$2:$C$1827), 0)) -> 0 | E6: =IF(D6>=183, "SÍ", "NO") -> NO | F6: =IF(D6>=183, "RESIDENTE FISCAL", "NO RESIDENTE") -> NO RESIDENTE
B7: 2024 | C7: =SUM('Registro de Viajes'!G5:G34) -> 39 | D7: =MAX(INDEX((Motor_Calculo!$D$2:$D$1827=2024)*(Motor_Calculo!$C$2:$C$1827), 0)) -> 39 | E7: =IF(D7>=183, "SÍ", "NO") -> NO | F7: =IF(D7>=183, "RESIDENTE FISCAL", "NO RESIDENTE") -> NO RESIDENTE
B8: 2025 | C8: =SUM('Registro de Viajes'!H5:H34) -> 206 | D8: {=MAX(INDEX((Motor_Calculo!$D$2:$D$1827=2025)*(Motor_Calculo!$C$2:$C$1827), 0))} -> 209 | E8: =IF(D8>=183, "SÍ", "NO") -> SÍ | F8: =IF(D8>=183, "RESIDENTE FISCAL", "NO RESIDENTE") -> RESIDENTE FISCAL

Sheet Registro de Viajes
A1: REGISTRO DE VIAJES Y PERMANENCIA EN COLOMBIA
A2: Puedes ayudarte con las fechas de entrada y salida del pasaporte o solicitar un certificado de movimeintos migratorios en Migración Colombia | K2: Tarzan en su otra dimensión vive en Estados Unidos desde el 2021, pero viene a Colombia muchas veces a visitar a su abuela en Medellin. ¿Para el año 2025 es Residente Fiscal por permanencia fisica en el país?
D3: DIAS CALENDARIO | E3: =SUM(E5:E34) -> 0 | F3: =SUM(F5:F34) -> 0 | G3: =SUM(G5:G34) -> 39 | H3: =SUM(H5:H34) -> 206
A4: No. Viaje | B4: Fecha de Entrada (DD/MM/AAAA) | C4: Fecha de Salida (DD/MM/AAAA) | D4: Días Totales en Colombia | E4: Días Año 2022 | F4: Días Año 2023 | G4: Días Año 2024 | H4: Días Año 2025 | K4: Vacaciones de Tarzan:
A5: 1 | B5: 45614 | C5: 45652 | D5: =IF(OR($B5="",$C5=""),0,$C5-$B5+1) -> 39 | E5: =IF(OR($B5="",$C5=""),0,MAX(0,MIN($C5,DATE(2022,12,31))-MAX($B5,DATE(2022,1,1))+1)) -> 0 | F5: =IF(OR($B5="",$C5=""),0,MAX(0,MIN($C5,DATE(2023,12,31))-MAX($B5,DATE(2023,1,1))+1)) -> 0 | G5: =IF(OR($B5="",$C5=""),0,MAX(0,MIN($C5,DATE(2024,12,31))-MAX($B5,DATE(2024,1,1))+1)) -> 39 | H5: =IF(OR($B5="",$C5=""),0,MAX(0,MIN($C5,DATE(2025,12,31))-MAX($B5,DATE(2025,1,1))+1)) -> 0 | K5: PRIMERO
A6: 2 | B6: 45670 | C6: 45724 | D6: =IF(OR($B6="",$C6=""),0,$C6-$B6+1) -> 55 | E6: =IF(OR($B6="",$C6=""),0,MAX(0,MIN($C6,DATE(2022,12,31))-MAX($B6,DATE(2022,1,1))+1)) -> 0 | F6: =IF(OR($B6="",$C6=""),0,MAX(0,MIN($C6,DATE(2023,12,31))-MAX($B6,DATE(2023,1,1))+1)) -> 0 | G6: =IF(OR($B6="",$C6=""),0,MAX(0,MIN($C6,DATE(2024,12,31))-MAX($B6,DATE(2024,1,1))+1)) -> 0 | H6: =IF(OR($B6="",$C6=""),0,MAX(0,MIN($C6,DATE(2025,12,31))-MAX($B6,DATE(2025,1,1))+1)) -> 55 | K6: ENTRADA: | L6: 45614
A7: 3 | B7: 45775 | C7: 45826 | D7: =IF(OR($B7="",$C7=""),0,$C7-$B7+1) -> 52 | E7: =IF(OR($B7="",$C7=""),0,MAX(0,MIN($C7,DATE(2022,12,31))-MAX($B7,DATE(2022,1,1))+1)) -> 0 | F7: =IF(OR($B7="",$C7=""),0,MAX(0,MIN($C7,DATE(2023,12,31))-MAX($B7,DATE(2023,1,1))+1)) -> 0 | G7: =IF(OR($B7="",$C7=""),0,MAX(0,MIN($C7,DATE(2024,12,31))-MAX($B7,DATE(2024,1,1))+1)) -> 0 | H7: =IF(OR($B7="",$C7=""),0,MAX(0,MIN($C7,DATE(2025,12,31))-MAX($B7,DATE(2025,1,1))+1)) -> 52 | K7: SALIDA: | L7: 45652 | N7: =DAYS360(L6,L7)+1 -> 39 | R7: Entra en otro limite temporal
A8: 4 | B8: 45882 | C8: 45930 | D8: =IF(OR($B8="",$C8=""),0,$C8-$B8+1) -> 49 | E8: =IF(OR($B8="",$C8=""),0,MAX(0,MIN($C8,DATE(2022,12,31))-MAX($B8,DATE(2022,1,1))+1)) -> 0 | F8: =IF(OR($B8="",$C8=""),0,MAX(0,MIN($C8,DATE(2023,12,31))-MAX($B8,DATE(2023,1,1))+1)) -> 0 | G8: =IF(OR($B8="",$C8=""),0,MAX(0,MIN($C8,DATE(2024,12,31))-MAX($B8,DATE(2024,1,1))+1)) -> 0 | H8: =IF(OR($B8="",$C8=""),0,MAX(0,MIN($C8,DATE(2025,12,31))-MAX($B8,DATE(2025,1,1))+1)) -> 49 | R8: 45614
A9: 5 | B9: 45965 | C9: 46014 | D9: =IF(OR($B9="",$C9=""),0,$C9-$B9+1) -> 50 | E9: =IF(OR($B9="",$C9=""),0,MAX(0,MIN($C9,DATE(2022,12,31))-MAX($B9,DATE(2022,1,1))+1)) -> 0 | F9: =IF(OR($B9="",$C9=""),0,MAX(0,MIN($C9,DATE(2023,12,31))-MAX($B9,DATE(2023,1,1))+1)) -> 0 | G9: =IF(OR($B9="",$C9=""),0,MAX(0,MIN($C9,DATE(2024,12,31))-MAX($B9,DATE(2024,1,1))+1)) -> 0 | H9: =IF(OR($B9="",$C9=""),0,MAX(0,MIN($C9,DATE(2025,12,31))-MAX($B9,DATE(2025,1,1))+1)) -> 50 | K9: (febrero fue año no bisiesto- 28 dias) | AL9: AÑO 2
A10: 6 | D10: =IF(OR($B10="",$C10=""),0,$C10-$B10+1) -> 0 | E10: =IF(OR($B10="",$C10=""),0,MAX(0,MIN($C10,DATE(2022,12,31))-MAX($B10,DATE(2022,1,1))+1)) -> 0 | F10: =IF(OR($B10="",$C10=""),0,MAX(0,MIN($C10,DATE(2023,12,31))-MAX($B10,DATE(2023,1,1))+1)) -> 0 | G10: =IF(OR($B10="",$C10=""),0,MAX(0,MIN($C10,DATE(2024,12,31))-MAX($B10,DATE(2024,1,1))+1)) -> 0 | H10: =IF(OR($B10="",$C10=""),0,MAX(0,MIN($C10,DATE(2025,12,31))-MAX($B10,DATE(2025,1,1))+1)) -> 0 | K10: SEGUNDO | AO10: LIMITE TEMPORAL
A11: 7 | D11: =IF(OR($B11="",$C11=""),0,$C11-$B11+1) -> 0 | E11: =IF(OR($B11="",$C11=""),0,MAX(0,MIN($C11,DATE(2022,12,31))-MAX($B11,DATE(2022,1,1))+1)) -> 0 | F11: =IF(OR($B11="",$C11=""),0,MAX(0,MIN($C11,DATE(2023,12,31))-MAX($B11,DATE(2023,1,1))+1)) -> 0 | G11: =IF(OR($B11="",$C11=""),0,MAX(0,MIN($C11,DATE(2024,12,31))-MAX($B11,DATE(2024,1,1))+1)) -> 0 | H11: =IF(OR($B11="",$C11=""),0,MAX(0,MIN($C11,DATE(2025,12,31))-MAX($B11,DATE(2025,1,1))+1)) -> 0 | K11: ENTRADA: | L11: 45670 | T11: 4 dias | X11: 55 dias | AB11: 52 dias | AG11: 49 dias | AK11: 50 dias | AO11: 365 DIAS
A12: 8 | D12: =IF(OR($B12="",$C12=""),0,$C12-$B12+1) -> 0 | E12: =IF(OR($B12="",$C12=""),0,MAX(0,MIN($C12,DATE(2022,12,31))-MAX($B12,DATE(2022,1,1))+1)) -> 0 | F12: =IF(OR($B12="",$C12=""),0,MAX(0,MIN($C12,DATE(2023,12,31))-MAX($B12,DATE(2023,1,1))+1)) -> 0 | G12: =IF(OR($B12="",$C12=""),0,MAX(0,MIN($C12,DATE(2024,12,31))-MAX($B12,DATE(2024,1,1))+1)) -> 0 | H12: =IF(OR($B12="",$C12=""),0,MAX(0,MIN($C12,DATE(2025,12,31))-MAX($B12,DATE(2025,1,1))+1)) -> 0 | K12: SALIDA: | L12: 45724 | N12: =DAYS360(L11,L12) -> 55 | R12: 45649 | U12: 45652 | X12: 45670 | Z12: 45724 | AB12: 45775 | AD12: 45826 | AG12: 45882 | AI12: 45930 | AK12: 45965 | AL12: 46014
A13: 9 | D13: =IF(OR($B13="",$C13=""),0,$C13-$B13+1) -> 0 | E13: =IF(OR($B13="",$C13=""),0,MAX(0,MIN($C13,DATE(2022,12,31))-MAX($B13,DATE(2022,1,1))+1)) -> 0 | F13: =IF(OR($B13="",$C13=""),0,MAX(0,MIN($C13,DATE(2023,12,31))-MAX($B13,DATE(2023,1,1))+1)) -> 0 | G13: =IF(OR($B13="",$C13=""),0,MAX(0,MIN($C13,DATE(2024,12,31))-MAX($B13,DATE(2024,1,1))+1)) -> 0 | H13: =IF(OR($B13="",$C13=""),0,MAX(0,MIN($C13,DATE(2025,12,31))-MAX($B13,DATE(2025,1,1))+1)) -> 0 | R13: Limite | U13: salio | X13: entro | Z13: salio | AB13: entro | AD13: salio | AG13: entro | AI13: salio | AK13: entro | AL13: salio
A14: 10 | D14: =IF(OR($B14="",$C14=""),0,$C14-$B14+1) -> 0 | E14: =IF(OR($B14="",$C14=""),0,MAX(0,MIN($C14,DATE(2022,12,31))-MAX($B14,DATE(2022,1,1))+1)) -> 0 | F14: =IF(OR($B14="",$C14=""),0,MAX(0,MIN($C14,DATE(2023,12,31))-MAX($B14,DATE(2023,1,1))+1)) -> 0 | G14: =IF(OR($B14="",$C14=""),0,MAX(0,MIN($C14,DATE(2024,12,31))-MAX($B14,DATE(2024,1,1))+1)) -> 0 | H14: =IF(OR($B14="",$C14=""),0,MAX(0,MIN($C14,DATE(2025,12,31))-MAX($B14,DATE(2025,1,1))+1)) -> 0 | AL14: Ultima salida de colombia
A15: 11 | D15: =IF(OR($B15="",$C15=""),0,$C15-$B15+1) -> 0 | E15: =IF(OR($B15="",$C15=""),0,MAX(0,MIN($C15,DATE(2022,12,31))-MAX($B15,DATE(2022,1,1))+1)) -> 0 | F15: =IF(OR($B15="",$C15=""),0,MAX(0,MIN($C15,DATE(2023,12,31))-MAX($B15,DATE(2023,1,1))+1)) -> 0 | G15: =IF(OR($B15="",$C15=""),0,MAX(0,MIN($C15,DATE(2024,12,31))-MAX($B15,DATE(2024,1,1))+1)) -> 0 | H15: =IF(OR($B15="",$C15=""),0,MAX(0,MIN($C15,DATE(2025,12,31))-MAX($B15,DATE(2025,1,1))+1)) -> 0 | K15: TERCERO | R15: AÑO 1 | X15: AÑO 2
A16: 12 | D16: =IF(OR($B16="",$C16=""),0,$C16-$B16+1) -> 0 | E16: =IF(OR($B16="",$C16=""),0,MAX(0,MIN($C16,DATE(2022,12,31))-MAX($B16,DATE(2022,1,1))+1)) -> 0 | F16: =IF(OR($B16="",$C16=""),0,MAX(0,MIN($C16,DATE(2023,12,31))-MAX($B16,DATE(2023,1,1))+1)) -> 0 | G16: =IF(OR($B16="",$C16=""),0,MAX(0,MIN($C16,DATE(2024,12,31))-MAX($B16,DATE(2024,1,1))+1)) -> 0 | H16: =IF(OR($B16="",$C16=""),0,MAX(0,MIN($C16,DATE(2025,12,31))-MAX($B16,DATE(2025,1,1))+1)) -> 0 | K16: ENTRADA: | L16: 45775 | AL16: De aquí hacia alla no volvió a colombia---
A17: 13 | D17: =IF(OR($B17="",$C17=""),0,$C17-$B17+1) -> 0 | E17: =IF(OR($B17="",$C17=""),0,MAX(0,MIN($C17,DATE(2022,12,31))-MAX($B17,DATE(2022,1,1))+1)) -> 0 | F17: =IF(OR($B17="",$C17=""),0,MAX(0,MIN($C17,DATE(2023,12,31))-MAX($B17,DATE(2023,1,1))+1)) -> 0 | G17: =IF(OR($B17="",$C17=""),0,MAX(0,MIN($C17,DATE(2024,12,31))-MAX($B17,DATE(2024,1,1))+1)) -> 0 | H17: =IF(OR($B17="",$C17=""),0,MAX(0,MIN($C17,DATE(2025,12,31))-MAX($B17,DATE(2025,1,1))+1)) -> 0 | K17: SALIDA: | L17: 45826 | N17: =DAYS360(L16,L17)+2 -> 52
A18: 14 | D18: =IF(OR($B18="",$C18=""),0,$C18-$B18+1) -> 0 | E18: =IF(OR($B18="",$C18=""),0,MAX(0,MIN($C18,DATE(2022,12,31))-MAX($B18,DATE(2022,1,1))+1)) -> 0 | F18: =IF(OR($B18="",$C18=""),0,MAX(0,MIN($C18,DATE(2023,12,31))-MAX($B18,DATE(2023,1,1))+1)) -> 0 | G18: =IF(OR($B18="",$C18=""),0,MAX(0,MIN($C18,DATE(2024,12,31))-MAX($B18,DATE(2024,1,1))+1)) -> 0 | H18: =IF(OR($B18="",$C18=""),0,MAX(0,MIN($C18,DATE(2025,12,31))-MAX($B18,DATE(2025,1,1))+1)) -> 0
A19: 15 | D19: =IF(OR($B19="",$C19=""),0,$C19-$B19+1) -> 0 | E19: =IF(OR($B19="",$C19=""),0,MAX(0,MIN($C19,DATE(2022,12,31))-MAX($B19,DATE(2022,1,1))+1)) -> 0 | F19: =IF(OR($B19="",$C19=""),0,MAX(0,MIN($C19,DATE(2023,12,31))-MAX($B19,DATE(2023,1,1))+1)) -> 0 | G19: =IF(OR($B19="",$C19=""),0,MAX(0,MIN($C19,DATE(2024,12,31))-MAX($B19,DATE(2024,1,1))+1)) -> 0 | H19: =IF(OR($B19="",$C19=""),0,MAX(0,MIN($C19,DATE(2025,12,31))-MAX($B19,DATE(2025,1,1))+1)) -> 0 | T19: SUMA DE DIAS
A20: 16 | D20: =IF(OR($B20="",$C20=""),0,$C20-$B20+1) -> 0 | E20: =IF(OR($B20="",$C20=""),0,MAX(0,MIN($C20,DATE(2022,12,31))-MAX($B20,DATE(2022,1,1))+1)) -> 0 | F20: =IF(OR($B20="",$C20=""),0,MAX(0,MIN($C20,DATE(2023,12,31))-MAX($B20,DATE(2023,1,1))+1)) -> 0 | G20: =IF(OR($B20="",$C20=""),0,MAX(0,MIN($C20,DATE(2024,12,31))-MAX($B20,DATE(2024,1,1))+1)) -> 0 | H20: =IF(OR($B20="",$C20=""),0,MAX(0,MIN($C20,DATE(2025,12,31))-MAX($B20,DATE(2025,1,1))+1)) -> 0 | K20: CUARTO | T20: =3+55+52+49+50 -> 209
A21: 17 | D21: =IF(OR($B21="",$C21=""),0,$C21-$B21+1) -> 0 | E21: =IF(OR($B21="",$C21=""),0,MAX(0,MIN($C21,DATE(2022,12,31))-MAX($B21,DATE(2022,1,1))+1)) -> 0 | F21: =IF(OR($B21="",$C21=""),0,MAX(0,MIN($C21,DATE(2023,12,31))-MAX($B21,DATE(2023,1,1))+1)) -> 0 | G21: =IF(OR($B21="",$C21=""),0,MAX(0,MIN($C21,DATE(2024,12,31))-MAX($B21,DATE(2024,1,1))+1)) -> 0 | H21: =IF(OR($B21="",$C21=""),0,MAX(0,MIN($C21,DATE(2025,12,31))-MAX($B21,DATE(2025,1,1))+1)) -> 0 | K21: ENTRADA: | L21: 45882 | T21: MAYOR A 183 DIAS
A22: 18 | D22: =IF(OR($B22="",$C22=""),0,$C22-$B22+1) -> 0 | E22: =IF(OR($B22="",$C22=""),0,MAX(0,MIN($C22,DATE(2022,12,31))-MAX($B22,DATE(2022,1,1))+1)) -> 0 | F22: =IF(OR($B22="",$C22=""),0,MAX(0,MIN($C22,DATE(2023,12,31))-MAX($B22,DATE(2023,1,1))+1)) -> 0 | G22: =IF(OR($B22="",$C22=""),0,MAX(0,MIN($C22,DATE(2024,12,31))-MAX($B22,DATE(2024,1,1))+1)) -> 0 | H22: =IF(OR($B22="",$C22=""),0,MAX(0,MIN($C22,DATE(2025,12,31))-MAX($B22,DATE(2025,1,1))+1)) -> 0 | K22: SALIDA: | L22: 45930 | N22: =DAYS360(L21,L22)+2 -> 49
A23: 19 | D23: =IF(OR($B23="",$C23=""),0,$C23-$B23+1) -> 0 | E23: =IF(OR($B23="",$C23=""),0,MAX(0,MIN($C23,DATE(2022,12,31))-MAX($B23,DATE(2022,1,1))+1)) -> 0 | F23: =IF(OR($B23="",$C23=""),0,MAX(0,MIN($C23,DATE(2023,12,31))-MAX($B23,DATE(2023,1,1))+1)) -> 0 | G23: =IF(OR($B23="",$C23=""),0,MAX(0,MIN($C23,DATE(2024,12,31))-MAX($B23,DATE(2024,1,1))+1)) -> 0 | H23: =IF(OR($B23="",$C23=""),0,MAX(0,MIN($C23,DATE(2025,12,31))-MAX($B23,DATE(2025,1,1))+1)) -> 0
A24: 20 | D24: =IF(OR($B24="",$C24=""),0,$C24-$B24+1) -> 0 | E24: =IF(OR($B24="",$C24=""),0,MAX(0,MIN($C24,DATE(2022,12,31))-MAX($B24,DATE(2022,1,1))+1)) -> 0 | F24: =IF(OR($B24="",$C24=""),0,MAX(0,MIN($C24,DATE(2023,12,31))-MAX($B24,DATE(2023,1,1))+1)) -> 0 | G24: =IF(OR($B24="",$C24=""),0,MAX(0,MIN($C24,DATE(2024,12,31))-MAX($B24,DATE(2024,1,1))+1)) -> 0 | H24: =IF(OR($B24="",$C24=""),0,MAX(0,MIN($C24,DATE(2025,12,31))-MAX($B24,DATE(2025,1,1))+1)) -> 0
A25: 21 | D25: =IF(OR($B25="",$C25=""),0,$C25-$B25+1) -> 0 | E25: =IF(OR($B25="",$C25=""),0,MAX(0,MIN($C25,DATE(2022,12,31))-MAX($B25,DATE(2022,1,1))+1)) -> 0 | F25: =IF(OR($B25="",$C25=""),0,MAX(0,MIN($C25,DATE(2023,12,31))-MAX($B25,DATE(2023,1,1))+1)) -> 0 | G25: =IF(OR($B25="",$C25=""),0,MAX(0,MIN($C25,DATE(2024,12,31))-MAX($B25,DATE(2024,1,1))+1)) -> 0 | H25: =IF(OR($B25="",$C25=""),0,MAX(0,MIN($C25,DATE(2025,12,31))-MAX($B25,DATE(2025,1,1))+1)) -> 0 | K25: QUINTO
A26: 22 | D26: =IF(OR($B26="",$C26=""),0,$C26-$B26+1) -> 0 | E26: =IF(OR($B26="",$C26=""),0,MAX(0,MIN($C26,DATE(2022,12,31))-MAX($B26,DATE(2022,1,1))+1)) -> 0 | F26: =IF(OR($B26="",$C26=""),0,MAX(0,MIN($C26,DATE(2023,12,31))-MAX($B26,DATE(2023,1,1))+1)) -> 0 | G26: =IF(OR($B26="",$C26=""),0,MAX(0,MIN($C26,DATE(2024,12,31))-MAX($B26,DATE(2024,1,1))+1)) -> 0 | H26: =IF(OR($B26="",$C26=""),0,MAX(0,MIN($C26,DATE(2025,12,31))-MAX($B26,DATE(2025,1,1))+1)) -> 0 | K26: ENTRADA: | L26: 45965
A27: 23 | D27: =IF(OR($B27="",$C27=""),0,$C27-$B27+1) -> 0 | E27: =IF(OR($B27="",$C27=""),0,MAX(0,MIN($C27,DATE(2022,12,31))-MAX($B27,DATE(2022,1,1))+1)) -> 0 | F27: =IF(OR($B27="",$C27=""),0,MAX(0,MIN($C27,DATE(2023,12,31))-MAX($B27,DATE(2023,1,1))+1)) -> 0 | G27: =IF(OR($B27="",$C27=""),0,MAX(0,MIN($C27,DATE(2024,12,31))-MAX($B27,DATE(2024,1,1))+1)) -> 0 | H27: =IF(OR($B27="",$C27=""),0,MAX(0,MIN($C27,DATE(2025,12,31))-MAX($B27,DATE(2025,1,1))+1)) -> 0 | K27: SALIDA: | L27: 46014 | N27: =DAYS360(L26,L27)+1 -> 50
A28: 24 | D28: =IF(OR($B28="",$C28=""),0,$C28-$B28+1) -> 0 | E28: =IF(OR($B28="",$C28=""),0,MAX(0,MIN($C28,DATE(2022,12,31))-MAX($B28,DATE(2022,1,1))+1)) -> 0 | F28: =IF(OR($B28="",$C28=""),0,MAX(0,MIN($C28,DATE(2023,12,31))-MAX($B28,DATE(2023,1,1))+1)) -> 0 | G28: =IF(OR($B28="",$C28=""),0,MAX(0,MIN($C28,DATE(2024,12,31))-MAX($B28,DATE(2024,1,1))+1)) -> 0 | H28: =IF(OR($B28="",$C28=""),0,MAX(0,MIN($C28,DATE(2025,12,31))-MAX($B28,DATE(2025,1,1))+1)) -> 0
A29: 25 | D29: =IF(OR($B29="",$C29=""),0,$C29-$B29+1) -> 0 | E29: =IF(OR($B29="",$C29=""),0,MAX(0,MIN($C29,DATE(2022,12,31))-MAX($B29,DATE(2022,1,1))+1)) -> 0 | F29: =IF(OR($B29="",$C29=""),0,MAX(0,MIN($C29,DATE(2023,12,31))-MAX($B29,DATE(2023,1,1))+1)) -> 0 | G29: =IF(OR($B29="",$C29=""),0,MAX(0,MIN($C29,DATE(2024,12,31))-MAX($B29,DATE(2024,1,1))+1)) -> 0 | H29: =IF(OR($B29="",$C29=""),0,MAX(0,MIN($C29,DATE(2025,12,31))-MAX($B29,DATE(2025,1,1))+1)) -> 0
A30: 26 | D30: =IF(OR($B30="",$C30=""),0,$C30-$B30+1) -> 0 | E30: =IF(OR($B30="",$C30=""),0,MAX(0,MIN($C30,DATE(2022,12,31))-MAX($B30,DATE(2022,1,1))+1)) -> 0 | F30: =IF(OR($B30="",$C30=""),0,MAX(0,MIN($C30,DATE(2023,12,31))-MAX($B30,DATE(2023,1,1))+1)) -> 0 | G30: =IF(OR($B30="",$C30=""),0,MAX(0,MIN($C30,DATE(2024,12,31))-MAX($B30,DATE(2024,1,1))+1)) -> 0 | H30: =IF(OR($B30="",$C30=""),0,MAX(0,MIN($C30,DATE(2025,12,31))-MAX($B30,DATE(2025,1,1))+1)) -> 0
A31: 27 | D31: =IF(OR($B31="",$C31=""),0,$C31-$B31+1) -> 0 | E31: =IF(OR($B31="",$C31=""),0,MAX(0,MIN($C31,DATE(2022,12,31))-MAX($B31,DATE(2022,1,1))+1)) -> 0 | F31: =IF(OR($B31="",$C31=""),0,MAX(0,MIN($C31,DATE(2023,12,31))-MAX($B31,DATE(2023,1,1))+1)) -> 0 | G31: =IF(OR($B31="",$C31=""),0,MAX(0,MIN($C31,DATE(2024,12,31))-MAX($B31,DATE(2024,1,1))+1)) -> 0 | H31: =IF(OR($B31="",$C31=""),0,MAX(0,MIN($C31,DATE(2025,12,31))-MAX($B31,DATE(2025,1,1))+1)) -> 0
A32: 28 | D32: =IF(OR($B32="",$C32=""),0,$C32-$B32+1) -> 0 | E32: =IF(OR($B32="",$C32=""),0,MAX(0,MIN($C32,DATE(2022,12,31))-MAX($B32,DATE(2022,1,1))+1)) -> 0 | F32: =IF(OR($B32="",$C32=""),0,MAX(0,MIN($C32,DATE(2023,12,31))-MAX($B32,DATE(2023,1,1))+1)) -> 0 | G32: =IF(OR($B32="",$C32=""),0,MAX(0,MIN($C32,DATE(2024,12,31))-MAX($B32,DATE(2024,1,1))+1)) -> 0 | H32: =IF(OR($B32="",$C32=""),0,MAX(0,MIN($C32,DATE(2025,12,31))-MAX($B32,DATE(2025,1,1))+1)) -> 0
A33: 29 | D33: =IF(OR($B33="",$C33=""),0,$C33-$B33+1) -> 0 | E33: =IF(OR($B33="",$C33=""),0,MAX(0,MIN($C33,DATE(2022,12,31))-MAX($B33,DATE(2022,1,1))+1)) -> 0 | F33: =IF(OR($B33="",$C33=""),0,MAX(0,MIN($C33,DATE(2023,12,31))-MAX($B33,DATE(2023,1,1))+1)) -> 0 | G33: =IF(OR($B33="",$C33=""),0,MAX(0,MIN($C33,DATE(2024,12,31))-MAX($B33,DATE(2024,1,1))+1)) -> 0 | H33: =IF(OR($B33="",$C33=""),0,MAX(0,MIN($C33,DATE(2025,12,31))-MAX($B33,DATE(2025,1,1))+1)) -> 0
A34: 30 | D34: =IF(OR($B34="",$C34=""),0,$C34-$B34+1) -> 0 | E34: =IF(OR($B34="",$C34=""),0,MAX(0,MIN($C34,DATE(2022,12,31))-MAX($B34,DATE(2022,1,1))+1)) -> 0 | F34: =IF(OR($B34="",$C34=""),0,MAX(0,MIN($C34,DATE(2023,12,31))-MAX($B34,DATE(2023,1,1))+1)) -> 0 | G34: =IF(OR($B34="",$C34=""),0,MAX(0,MIN($C34,DATE(2024,12,31))-MAX($B34,DATE(2024,1,1))+1)) -> 0 | H34: =IF(OR($B34="",$C34=""),0,MAX(0,MIN($C34,DATE(2025,12,31))-MAX($B34,DATE(2025,1,1))+1)) -> 0

Sheet Motor_Calculo
A1: Fecha | B1: En Colombia | C1: Acumulado_365 | D1: Año
A2: 44197 | B2: =IF(COUNTIFS('Registro de Viajes'!$B$5:$B$34, "<="&A2, 'Registro de Viajes'!$C$5:$C$34, ">="&A2)>0, 1, 0) -> 0 | C2: =SUM(B$2:B2) -> 0 | D2: =YEAR(A2) -> 2021
A3: 44198 | B3: =IF(COUNTIFS('Registro de Viajes'!$B$5:$B$34, "<="&A3, 'Registro de Viajes'!$C$5:$C$34, ">="&A3)>0, 1, 0) -> 0 | C3: =SUM(B$2:B3) -> 0 | D3: =YEAR(A3) -> 2021
A4: 44199 | B4: =IF(COUNTIFS('Registro de Viajes'!$B$5:$B$34, "<="&A4, 'Registro de Viajes'!$C$5:$C$34, ">="&A4)>0, 1, 0) -> 0 | C4: =SUM(B$2:B4) -> 0 | D4: =YEAR(A4) -> 2021
A5: 44200 | B5: =IF(COUNTIFS('Registro de Viajes'!$B$5:$B$34, "<="&A5, 'Registro de Viajes'!$C$5:$C$34, ">="&A5)>0, 1, 0) -> 0 | C5: =SUM(B$2:B5) -> 0 | D5: =YEAR(A5) -> 2021
A6: 44201 | B6: =IF(COUNTIFS('Registro de Viajes'!$B$5:$B$34, "<="&A6, 'Registro de Viajes'!$C$5:$C$34, ">="&A6)>0, 1, 0) -> 0 | C6: =SUM(B$2:B6) -> 0 | D6: =YEAR(A6) -> 2021
A7: 44202 | B7: =IF(COUNTIFS('Registro de Viajes'!$B$5:$B$34, "<="&A7, 'Registro de Viajes'!$C$5:$C$34, ">="&A7)>0, 1, 0) -> 0 | C7: =SUM(B$2:B7) -> 0 | D7: =YEAR(A7) -> 2021
A8: 44203 | B8: =IF(COUNTIFS('Registro de Viajes'!$B$5:$B$34, "<="&A8, 'Registro de Viajes'!$C$5:$C$34, ">="&A8)>0, 1, 0) -> 0 | C8: =SUM(B$2:B8) -> 0 | D8: =YEAR(A8) -> 2021
A9: 44204 | B9: =IF(COUNTIFS('Registro de Viajes'!$B$5:$B$34, "<="&A9, 'Registro de Viajes'!$C$5:$C$34, ">="&A9)>0, 1, 0) -> 0 | C9: =SUM(B$2:B9) -> 0 | D9: =YEAR(A9) -> 2021
A10: 44205 | B10: =IF(COUNTIFS('Registro de Viajes'!$B$5:$B$34, "<="&A10, 'Registro de Viajes'!$C$5:$C$34, ">="&A10)>0, 1, 0) -> 0 | C10: =SUM(B$2:B10) -> 0 | D10: =YEAR(A10) -> 2021
A11: 44206 | B11: =IF(COUNTIFS('Registro de Viajes'!$B$5:$B$34, "<="&A11, 'Registro de Viajes'!$C$5:$C$34, ">="&A11)>0, 1, 0) -> 0 | C11: =SUM(B$2:B11) -> 0 | D11: =YEAR(A11) -> 2021
A12: 44207 | B12: =IF(COUNTIFS('Registro de Viajes'!$B$5:$B$34, "<="&A12, 'Registro de Viajes'!$C$5:$C$34, ">="&A12)>0, 1, 0) -> 0 | C12: =SUM(B$2:B12) -> 0 | D12: =YEAR(A12) -> 2021
A13: 44208 | B13: =IF(COUNTIFS('Registro de Viajes'!$B$5:$B$34, "<="&A13, 'Registro de Viajes'!$C$5:$C$34, ">="&A13)>0, 1, 0) -> 0 | C13: =SUM(B$2:B13) -> 0 | D13: =YEAR(A13) -> 2021
... A365: 44560 | B365: =IF(COUNTIFS('Registro de Viajes'!$B$5:$B$34, "<="&A365, 'Registro de Viajes'!$C$5:$C$34, ">="&A365)>0, 1, 0) -> 0 | C365: =SUM(B$2:B365) -> 0 | D365: =YEAR(A365) -> 2021
A366: 44561 | B366: =IF(COUNTIFS('Registro de Viajes'!$B$5:$B$34, "<="&A366, 'Registro de Viajes'!$C$5:$C$34, ">="&A366)>0, 1, 0) -> 0 | C366: =SUM(B2:B366) -> 0 | D366: =YEAR(A366) -> 2021
A367: 44562 | B367: =IF(COUNTIFS('Registro de Viajes'!$B$5:$B$34, "<="&A367, 'Registro de Viajes'!$C$5:$C$34, ">="&A367)>0, 1, 0) -> 0 | C367: =SUM(B3:B367) -> 0 | D367: =YEAR(A367) -> 2022
A368: 44563 | B368: =IF(COUNTIFS('Registro de Viajes'!$B$5:$B$34, "<="&A368, 'Registro de Viajes'!$C$5:$C$34, ">="&A368)>0, 1, 0) -> 0 | C368: =SUM(B4:B368) -> 0 | D368: =YEAR(A368) -> 2022
A369: 44564 | B369: =IF(COUNTIFS('Registro de Viajes'!$B$5:$B$34, "<="&A369, 'Registro de Viajes'!$C$5:$C$34, ">="&A369)>0, 1, 0) -> 0 | C369: =SUM(B5:B369) -> 0 | D369: =YEAR(A369) -> 2022
A370: 44565 | B370: =IF(COUNTIFS('Registro de Viajes'!$B$5:$B$34, "<="&A370, 'Registro de Viajes'!$C$5:$C$34, ">="&A370)>0, 1, 0) -> 0 | C370: =SUM(B6:B370) -> 0 | D370: =YEAR(A370) -> 2022
A371: 44566 | B371: =IF(COUNTIFS('Registro de Viajes'!$B$5:$B$34, "<="&A371, 'Registro de Viajes'!$C$5:$C$34, ">="&A371)>0, 1, 0) -> 0 | C371: =SUM(B7:B371) -> 0 | D371: =YEAR(A371) -> 2022
A372: 44567 | B372: =IF(COUNTIFS('Registro de Viajes'!$B$5:$B$34, "<="&A372, 'Registro de Viajes'!$C$5:$C$34, ">="&A372)>0, 1, 0) -> 0 | C372: =SUM(B8:B372) -> 0 | D372: =YEAR(A372) -> 2022
A373: 44568 | B373: =IF(COUNTIFS('Registro de Viajes'!$B$5:$B$34, "<="&A373, 'Registro de Viajes'!$C$5:$C$34, ">="&A373)>0, 1, 0) -> 0 | C373: =SUM(B9:B373) -> 0 | D373: =YEAR(A373) -> 2022
A374: 44569 | B374: =IF(COUNTIFS('Registro de Viajes'!$B$5:$B$34, "<="&A374, 'Registro de Viajes'!$C$5:$C$34, ">="&A374)>0, 1, 0) -> 0 | C374: =SUM(B10:B374) -> 0 | D374: =YEAR(A374) -> 2022
A375: 44570 | B375: =IF(COUNTIFS('Registro de Viajes'!$B$5:$B$34, "<="&A375, 'Registro de Viajes'!$C$5:$C$34, ">="&A375)>0, 1, 0) -> 0 | C375: =SUM(B11:B375) -> 0 | D375: =YEAR(A375) -> 2022
A376: 44571 | B376: =IF(COUNTIFS('Registro de Viajes'!$B$5:$B$34, "<="&A376, 'Registro de Viajes'!$C$5:$C$34, ">="&A376)>0, 1, 0) -> 0 | C376: =SUM(B12:B376) -> 0 | D376: =YEAR(A376) -> 2022
A377: 44572 | B377: =IF(COUNTIFS('Registro de Viajes'!$B$5:$B$34, "<="&A377, 'Registro de Viajes'!$C$5:$C$34, ">="&A377)>0, 1, 0) -> 0 | C377: =SUM(B13:B377) -> 0 | D377: =YEAR(A377) -> 2022
... A1827: 46022 | B1827: =IF(COUNTIFS('Registro de Viajes'!$B$5:$B$34, "<="&A1827, 'Registro de Viajes'!$C$5:$C$34, ">="&A1827)>0, 1, 0) -> 0 | C1827: =SUM(B1463:B1827) -> 206 | D1827: =YEAR(A1827) -> 2025
